BEGIN:VCALENDAR
VERSION:2.0
PRODID:-//Squarespace Inc/Squarespace 6//v6//EN
BEGIN:VEVENT
UID:5eb88feef37be845ff78b5bf@squarespace.com
DTSTAMP:20200510T233822Z
DTSTART:20201118T230000Z
DTEND:20201121T040000Z
SUMMARY:ONE God\, ONE People
GEO:-31.102436;150.917027
LOCATION:Blazes Showroom\, Wests Leagues Club\, 58 Phillip Street\, West Ta
 mworth\, NSW\, 2340\, Australia
END:VEVENT
END:VCALENDAR
